BEGIN:VCALENDAR
VERSION:2.0
PRODID:-//81.169.145.92//NONSGML kigkonsult.se iCalcreator 2.20//
CALSCALE:GREGORIAN
METHOD:PUBLISH
X-WR-TIMEZONE:UTC
BEGIN:VEVENT
UID:event111@Heimatverein Köln e.V. | "Verein zur Pflege kölnischer Geschic
 hte, Sprache und Eigenart", gegründet 1902
DTSTAMP:20260423T180814Z
CATEGORIES:Vortrag
DESCRIPTION:Kölscher Lesenachmittag mit Texten zu Ehren von Martin Jungblut
 h (1935-2025). Es lesen: Helga Alfuß\, Jürgen Bennack\, Maria-Luise Schwei
 ger. Musikalische Begleitung: Johanna Otten\nKategorie: Vortrag\nICS-Link:
  https://www.heimatverein-koeln.de/index.php?option=com_jem&view=event&id=
 111:koelscher-lesenachmittag-mit-texten-zu-ehren-von-martin-jungbluth-1935
 -2025-es-lesen-helga-alfuss-juergen-bennack-marie-luise-schweiger-musikali
 sche-begleitung-johanna-otten\n
DTSTART:20260426T160000Z
DTEND:20260426T160000Z
LOCATION:Alte Post - Residenz am Dom\,An den Dominikanern 6 - 8\,50668 Köln
 \,Germany
SUMMARY:Kölscher Lesenachmittag mit Texten zu Ehren von Martin Jungbluth (1
 935-2025). Es lesen: Helga Alfuß\, Jürgen Bennack\, Maria-Luise Schweiger.
  Musikalische Begleitung: Johanna Otten
URL:https://www.heimatverein-koeln.de/index.php?option=com_jem&view=event&i
 d=111:koelscher-lesenachmittag-mit-texten-zu-ehren-von-martin-jungbluth-19
 35-2025-es-lesen-helga-alfuss-juergen-bennack-marie-luise-schweiger-musika
 lische-begleitung-johanna-otten
END:VEVENT
END:VCALENDAR