BEGIN:VCALENDAR
VERSION:2.0
PRODID:-//81.169.145.92//NONSGML kigkonsult.se iCalcreator 2.20//
CALSCALE:GREGORIAN
METHOD:PUBLISH
X-WR-TIMEZONE:UTC
BEGIN:VEVENT
UID:event109@Heimatverein Köln e.V. | "Verein zur Pflege kölnischer Geschic
 hte, Sprache und Eigenart", gegründet 1902
DTSTAMP:20260423T163626Z
CATEGORIES:Führung
DESCRIPTION:'Helden\, Hymnen un Verzällcher“ – Ein musikalischer Spaziergan
 g über den Kölner Südfriedhof mit Günter Schwanenberg +++AUSVERKAUFT+++\nK
 ategorie: Führung\nICS-Link: https://www.heimatverein-koeln.de/index.php?o
 ption=com_jem&view=event&id=109:helden-hymnen-un-verzaellcher-ein-musikali
 scher-spaziergang-ueber-den-koelner-suedfriedhof-mit-guenter-schwanenberg
 \n
DTSTART:20260419T110000Z
DTEND:20260419T110000Z
LOCATION:Südstadt\,Köln\,Germany
SUMMARY:'Helden\, Hymnen un Verzällcher“ – Ein musikalischer Spaziergang üb
 er den Kölner Südfriedhof mit Günter Schwanenberg +++AUSVERKAUFT+++
URL:https://www.heimatverein-koeln.de/index.php?option=com_jem&view=event&i
 d=109:helden-hymnen-un-verzaellcher-ein-musikalischer-spaziergang-ueber-de
 n-koelner-suedfriedhof-mit-guenter-schwanenberg
END:VEVENT
END:VCALENDAR